BEGIN:VCALENDAR
VERSION:2.0
PRODID:-//DP Pro Event Calendar//3.0.5//EN
BEGIN:VEVENT
UID:03025253-c36b-4ee9-b101-12c6a49d512e
DTSTART;TZID=Europe/London:20200128T063000
DTEND;TZID=Europe/London:20260422T225900
DTSTAMP:20191125T100250Z
SUMMARY:Recycling: Garden & Household waste collection
DESCRIPTION:
LOCATION:
URL:
END:VEVENT
END:VCALENDAR