BEGIN:VCALENDAR
VERSION:2.0
PRODID:-//DP Pro Event Calendar//3.0.5//EN
BEGIN:VEVENT
UID:6e160c16-0ae5-45ae-aefa-896c3c1c8441
DTSTART;TZID=Europe/London:20210702T230000
DTEND;TZID=Europe/London:20260422T225900
DTSTAMP:20210508T155627Z
SUMMARY:Scouts & Guides Summer Fete & Auction
DESCRIPTION:\n Held in the Scouts &amp\; Guides Hut &amp\; all proceeds go to the Scouts &amp\; Guides Hut from 12pm to 3pm.\n 
LOCATION:
URL:
END:VEVENT
END:VCALENDAR