BEGIN:VCALENDAR
VERSION:2.0
PRODID:-//DP Pro Event Calendar//3.0.5//EN
BEGIN:VEVENT
UID:93b172c6-aa9d-4fb1-b65d-43bae99c0e5b
DTSTART;TZID=Europe/London:20210829T080000
DTEND;TZID=Europe/London:20260422T225900
DTSTAMP:20210728T090504Z
SUMMARY:Carnival Dog Walk
DESCRIPTION:\n 9am for the Dog Walk and meet on the Green\n 
LOCATION:
URL:
END:VEVENT
END:VCALENDAR