BEGIN:VCALENDAR
VERSION:2.0
PRODID:-//DP Pro Event Calendar//3.0.5//EN
BEGIN:VEVENT
UID:168c00ec-0c74-4585-8fc9-c347c02eba93
DTSTART;TZID=Europe/London:20211030T090000
DTEND;TZID=Europe/London:20260419T150000
DTSTAMP:20210917T163020Z
SUMMARY:Re-Vamp sale
DESCRIPTION:
LOCATION:
URL:
END:VEVENT
END:VCALENDAR