BEGIN:VCALENDAR
VERSION:2.0
PRODID:-//DP Pro Event Calendar//3.0.5//EN
BEGIN:VEVENT
UID:6d7aac55-4e4b-4136-96b8-3ea35443870b
DTSTART;TZID=Europe/London:20220806T093000
DTEND;TZID=Europe/London:20260422T225900
DTSTAMP:20220528T134710Z
SUMMARY:Aldbourne Music & Song Festival - Children's Music Workshop
DESCRIPTION:\n St. Michael's School 10:30 - 11:30am\n 
LOCATION:
URL:
END:VEVENT
END:VCALENDAR