BEGIN:VCALENDAR
VERSION:2.0
PRODID:-//DP Pro Event Calendar//3.0.5//EN
BEGIN:VEVENT
UID:52522c49-c5b6-4465-9dec-75269ebf20f6
DTSTART;TZID=Europe/London:20220806T183000
DTEND;TZID=Europe/London:20260422T225900
DTSTAMP:20220528T134956Z
SUMMARY:Aldbourne Music & Song Festival - Picnic Concert
DESCRIPTION:\n On the Green - 7:30pm\n 
LOCATION:
URL:
END:VEVENT
END:VCALENDAR