BEGIN:VCALENDAR
VERSION:2.0
PRODID:-//DP Pro Event Calendar//3.0.5//EN
BEGIN:VEVENT
UID:504a549e-462e-4482-a4bf-905fb895f732
DTSTART;TZID=Europe/London:20230204T064000
DTEND;TZID=Europe/London:20260423T225900
DTSTAMP:20231123T105234Z
SUMMARY:Monthly Bird Walk to Four Barrows
DESCRIPTION:\n Meet at the Court House at 7:40 - everyone welcome\n 
LOCATION:
URL:
END:VEVENT
END:VCALENDAR