BEGIN:VCALENDAR
VERSION:2.0
PRODID:-//DP Pro Event Calendar//3.0.5//EN
BEGIN:VEVENT
UID:da844ca2-1a39-4c7a-b301-8d5ce2d2ee10
DTSTART;TZID=Europe/London:20230209T183000
DTEND;TZID=Europe/London:20260422T225900
DTSTAMP:20221122T115254Z
SUMMARY:Aladdin - ALEC Pantomime
DESCRIPTION:\n Memorial Hall\n 
LOCATION:
URL:
END:VEVENT
END:VCALENDAR