BEGIN:VCALENDAR
VERSION:2.0
PRODID:-//DP Pro Event Calendar//3.0.5//EN
BEGIN:VEVENT
UID:ac18f3a0-4680-43aa-a18a-62a16bf5d08f
DTSTART;TZID=Europe/London:20230509T183000
DTEND;TZID=Europe/London:20260422T225900
DTSTAMP:20230320T182755Z
SUMMARY:&#8220\;Wildlife in and around the Churchyard'
DESCRIPTION:\n An illustrated talk by Emily Best &amp\; AGM\, St. Michael's Church at 7:30pm\n 
LOCATION:
URL:
END:VEVENT
END:VCALENDAR