BEGIN:VCALENDAR
VERSION:2.0
PRODID:-//DP Pro Event Calendar//3.0.5//EN
BEGIN:VEVENT
UID:ebf592b3-ba1d-462e-9907-5d9164b15706
DTSTART;TZID=Europe/London:20230616T150000
DTEND;TZID=Europe/London:20260423T225900
DTSTAMP:20230509T105616Z
SUMMARY:St. Michael's Summer Fair
DESCRIPTION:\n 16th June - 4\;30 - 7PM\n 
LOCATION:
URL:
END:VEVENT
END:VCALENDAR