BEGIN:VCALENDAR
VERSION:2.0
PRODID:-//DP Pro Event Calendar//3.0.5//EN
BEGIN:VEVENT
UID:5d11e56f-551e-45fc-984c-c4eefb11b93e
DTSTART;TZID=Europe/London:20230624T130000
DTEND;TZID=Europe/London:20260423T225900
DTSTAMP:20230501T074203Z
SUMMARY:Aldbourne Churches Together Fete
DESCRIPTION:\n On the Green - Saturday 24th June 2023 14:00-16:00?\n 
LOCATION:
URL:
END:VEVENT
END:VCALENDAR