BEGIN:VCALENDAR
VERSION:2.0
PRODID:-//DP Pro Event Calendar//3.0.5//EN
BEGIN:VEVENT
UID:2269514c-a206-41a2-8269-13a215849967
DTSTART;TZID=Europe/London:20230708T183000
DTEND;TZID=Europe/London:20260422T225900
DTSTAMP:20230509T110546Z
SUMMARY:Shakespeare's The Comedy of Errors
DESCRIPTION:\n Maizey Lodge\, Ogbourne Maizie in aid of KHAPPP\n 
LOCATION:
URL:
END:VEVENT
END:VCALENDAR