BEGIN:VCALENDAR
VERSION:2.0
PRODID:-//DP Pro Event Calendar//3.0.5//EN
BEGIN:VEVENT
UID:85ac8c51-a76a-40d1-8528-e9479ff9e5df
DTSTART;TZID=Europe/London:20231020T183000
DTEND;TZID=Europe/London:20260422T225900
DTSTAMP:20230728T090935Z
SUMMARY:ALEC Presents
DESCRIPTION:\n "When we were married' by J.B. Prestley - Memorial Hall at 7:30pm\n 
LOCATION:
URL:
END:VEVENT
END:VCALENDAR