BEGIN:VCALENDAR
VERSION:2.0
PRODID:-//DP Pro Event Calendar//3.0.5//EN
BEGIN:VEVENT
UID:8aba5cd5-e982-45a9-aa80-f9ddb3f25203
DTSTART;TZID=Europe/London:20240424T100000
DTEND;TZID=Europe/London:20260422T143000
DTSTAMP:20240314T103037Z
SUMMARY:National Garden Scheme open day - Lambourn Woodlands
DESCRIPTION:\n Rooksnest\, Lambourn Woodlands RG17 7SB.  10 acre traditional English garden\n \n \n \n Admission £6 - Children free - proceeds to Marie Curie\, Macmillan &amp\; other charities\n 
LOCATION:
URL:
END:VEVENT
END:VCALENDAR