BEGIN:VCALENDAR
VERSION:2.0
PRODID:-//DP Pro Event Calendar//3.0.5//EN
BEGIN:VEVENT
UID:512a0494-41a7-41c2-8ee7-dc043e11b519
DTSTART;TZID=Europe/London:20201120T173000
DTEND;TZID=Europe/London:20260422T190000
DTSTAMP:20191113T111112Z
SUMMARY:Aldbourne Cubs
DESCRIPTION:\n Aldbourne Cubs meet every Wednesday at 6:30pm until 8pm. \n 
LOCATION:Goddards Lane
URL:
END:VEVENT
END:VCALENDAR